BEGIN:VCALENDAR
VERSION:2.0
PRODID:-//Indiana WEA | Wastewater Education - ECPv6.15.20//NONSGML v1.0//EN
CALSCALE:GREGORIAN
METHOD:PUBLISH
X-WR-CALNAME:Indiana WEA | Wastewater Education
X-ORIGINAL-URL:https://indianawea.org
X-WR-CALDESC:Events for Indiana WEA | Wastewater Education
REFRESH-INTERVAL;VALUE=DURATION:PT1H
X-Robots-Tag:noindex
X-PUBLISHED-TTL:PT1H
BEGIN:VTIMEZONE
TZID:America/Indiana/Indianapolis
BEGIN:DAYLIGHT
TZOFFSETFROM:-0500
TZOFFSETTO:-0400
TZNAME:EDT
DTSTART:20240310T070000
END:DAYLIGHT
BEGIN:STANDARD
TZOFFSETFROM:-0400
TZOFFSETTO:-0500
TZNAME:EST
DTSTART:20241103T060000
END:STANDARD
BEGIN:DAYLIGHT
TZOFFSETFROM:-0500
TZOFFSETTO:-0400
TZNAME:EDT
DTSTART:20250309T070000
END:DAYLIGHT
BEGIN:STANDARD
TZOFFSETFROM:-0400
TZOFFSETTO:-0500
TZNAME:EST
DTSTART:20251102T060000
END:STANDARD
BEGIN:DAYLIGHT
TZOFFSETFROM:-0500
TZOFFSETTO:-0400
TZNAME:EDT
DTSTART:20260308T070000
END:DAYLIGHT
BEGIN:STANDARD
TZOFFSETFROM:-0400
TZOFFSETTO:-0500
TZNAME:EST
DTSTART:20261101T060000
END:STANDARD
END:VTIMEZONE
BEGIN:VEVENT
DTSTART;TZID=America/Indiana/Indianapolis:20250909T090000
DTEND;TZID=America/Indiana/Indianapolis:20250909T160000
DTSTAMP:20260420T084237
CREATED:20250523T131247Z
LAST-MODIFIED:20250523T131350Z
UID:10694-1757408400-1757433600@indianawea.org
SUMMARY:LDI Session 1: Intro and Self-Evaluation
DESCRIPTION:IWEA is excited to welcome back the Leadership Development Academy for 2025! This 12-month course consists of 10 courses specifically designed for water and wastewater professionals looking to take their career to the next level. Applications for this cohort are due June 6th. \n LEARN MORE & APPLY HERE\n  \nSESSION OBJECTIVE \nUsing both the Working Genius and DISC assessments\, participants will explore their own personalities\, how they approach productivity\, and how the two integrate.
URL:https://indianawea.org/event/ldi-session-1-2025/
LOCATION:IWEA Office\, 6510 Telecom Drive\, Suite 200\, Indianapolis\, IN\, 46278\, United States
CATEGORIES:Leadership Development Institute
ATTACH;FMTTYPE=image/png:https://indianawea.org/wp-content/uploads/2025/05/LDI_2025-1.png
ORGANIZER;CN="IWEA":MAILTO:staff@indianawea.com
END:VEVENT
END:VCALENDAR