BEGIN:VCALENDAR
VERSION:2.0
PRODID:-//Indiana WEA | Wastewater Education - ECPv6.15.20//NONSGML v1.0//EN
CALSCALE:GREGORIAN
METHOD:PUBLISH
X-WR-CALNAME:Indiana WEA | Wastewater Education
X-ORIGINAL-URL:https://indianawea.org
X-WR-CALDESC:Events for Indiana WEA | Wastewater Education
REFRESH-INTERVAL;VALUE=DURATION:PT1H
X-Robots-Tag:noindex
X-PUBLISHED-TTL:PT1H
BEGIN:VTIMEZONE
TZID:America/Indiana/Indianapolis
BEGIN:DAYLIGHT
TZOFFSETFROM:-0500
TZOFFSETTO:-0400
TZNAME:EDT
DTSTART:20250309T070000
END:DAYLIGHT
BEGIN:STANDARD
TZOFFSETFROM:-0400
TZOFFSETTO:-0500
TZNAME:EST
DTSTART:20251102T060000
END:STANDARD
BEGIN:DAYLIGHT
TZOFFSETFROM:-0500
TZOFFSETTO:-0400
TZNAME:EDT
DTSTART:20260308T070000
END:DAYLIGHT
BEGIN:STANDARD
TZOFFSETFROM:-0400
TZOFFSETTO:-0500
TZNAME:EST
DTSTART:20261101T060000
END:STANDARD
BEGIN:DAYLIGHT
TZOFFSETFROM:-0500
TZOFFSETTO:-0400
TZNAME:EDT
DTSTART:20270314T070000
END:DAYLIGHT
BEGIN:STANDARD
TZOFFSETFROM:-0400
TZOFFSETTO:-0500
TZNAME:EST
DTSTART:20271107T060000
END:STANDARD
END:VTIMEZONE
BEGIN:VEVENT
DTSTART;VALUE=DATE:20260216
DTEND;VALUE=DATE:20260220
DTSTAMP:20260421T090924
CREATED:20251120T164303Z
LAST-MODIFIED:20251120T164313Z
UID:11100-1771200000-1771545599@indianawea.org
SUMMARY:WWETT 2026
DESCRIPTION:The WWETT Show brings together 12\,000 wastewater and environmental service professionals for an unmatched accredited educational program\, a full slate of live demos\, an array of networking opportunities and an extensive expo floor where buyers and sellers come together to see and experience the latest product innovations and technology. \nIWEA members receive a special registration rate to WWETT 2026. \n20% Off an Expo Hall and Conference Pass \nUse code PARTNER84129 when you register at wwettshow.com. \n*Discount available to new registrations only
URL:https://indianawea.org/event/wwett-2026/
LOCATION:Indiana Convention Center\, 100 S Capitol Avenue\, Indianapolis\, 46225\, United States
ATTACH;FMTTYPE=image/png:https://indianawea.org/wp-content/uploads/2025/11/wwett_OneInforma_Logo-RGB-highres7809301-scaled.png
END:VEVENT
END:VCALENDAR