BEGIN:VCALENDAR
VERSION:2.0
PRODID:-//Indiana WEA | Wastewater Education - ECPv6.15.20//NONSGML v1.0//EN
CALSCALE:GREGORIAN
METHOD:PUBLISH
X-ORIGINAL-URL:https://indianawea.org
X-WR-CALDESC:Events for Indiana WEA | Wastewater Education
REFRESH-INTERVAL;VALUE=DURATION:PT1H
X-Robots-Tag:noindex
X-PUBLISHED-TTL:PT1H
BEGIN:VTIMEZONE
TZID:America/Indiana/Indianapolis
BEGIN:DAYLIGHT
TZOFFSETFROM:-0500
TZOFFSETTO:-0400
TZNAME:EDT
DTSTART:20210314T070000
END:DAYLIGHT
BEGIN:STANDARD
TZOFFSETFROM:-0400
TZOFFSETTO:-0500
TZNAME:EST
DTSTART:20211107T060000
END:STANDARD
BEGIN:DAYLIGHT
TZOFFSETFROM:-0500
TZOFFSETTO:-0400
TZNAME:EDT
DTSTART:20220313T070000
END:DAYLIGHT
BEGIN:STANDARD
TZOFFSETFROM:-0400
TZOFFSETTO:-0500
TZNAME:EST
DTSTART:20221106T060000
END:STANDARD
BEGIN:DAYLIGHT
TZOFFSETFROM:-0500
TZOFFSETTO:-0400
TZNAME:EDT
DTSTART:20230312T070000
END:DAYLIGHT
BEGIN:STANDARD
TZOFFSETFROM:-0400
TZOFFSETTO:-0500
TZNAME:EST
DTSTART:20231105T060000
END:STANDARD
BEGIN:DAYLIGHT
TZOFFSETFROM:-0500
TZOFFSETTO:-0400
TZNAME:EDT
DTSTART:20240310T070000
END:DAYLIGHT
BEGIN:STANDARD
TZOFFSETFROM:-0400
TZOFFSETTO:-0500
TZNAME:EST
DTSTART:20241103T060000
END:STANDARD
BEGIN:DAYLIGHT
TZOFFSETFROM:-0500
TZOFFSETTO:-0400
TZNAME:EDT
DTSTART:20250309T070000
END:DAYLIGHT
BEGIN:STANDARD
TZOFFSETFROM:-0400
TZOFFSETTO:-0500
TZNAME:EST
DTSTART:20251102T060000
END:STANDARD
BEGIN:DAYLIGHT
TZOFFSETFROM:-0500
TZOFFSETTO:-0400
TZNAME:EDT
DTSTART:20260308T070000
END:DAYLIGHT
BEGIN:STANDARD
TZOFFSETFROM:-0400
TZOFFSETTO:-0500
TZNAME:EST
DTSTART:20261101T060000
END:STANDARD
END:VTIMEZONE
BEGIN:VEVENT
DTSTART;VALUE=DATE:20250820
DTEND;VALUE=DATE:20250823
DTSTAMP:20260425T201758
CREATED:20250620T194221Z
LAST-MODIFIED:20250805T134653Z
UID:10800-1755648000-1755907199@indianawea.org
SUMMARY:2025 Annual Conference
DESCRIPTION:Water is the lifeblood of our cities\, our industries\, and our daily lives. Without it\, nothing functions—no homes\, no businesses\, no infrastructure. For those of us in wastewater management\, water is not just essential—it’s everything. \nJoin the Indiana Water Environment Association for our 2025 Annual Conference on August 20th – 22nd. This year\, we have returned to downtown Indianapolis and the Indiana Convention Center! \nThis premier event brings together water professionals\, policymakers\, and industry leaders to explore the latest advancements\, share insights\, and network with peers in the water environment sector. Whether you’re attending as a delegate\, speaker\, or exhibitor\, the 2025 IWEA Annual Conference promises to be an unforgettable experience filled with learning\, collaboration\, and innovation. \n Learn More Here\n\n\n 
URL:https://indianawea.org/event/2025-annual-conference/
LOCATION:Indiana Convention Center\, 100 S Capitol Avenue\, Indianapolis\, 46225\, United States
CATEGORIES:CIOA,Collection Systems,Committees,Conferences,Courses,Editorial, Public Communication & Outreach,Government Affairs,IIOA,IWEA Wastewater Challenge,Laboratory,Leadership Development Institute,Meetings,NIOA,NWIOA,Operations & Maintenance,Operator Associations,Pretreatment,Residuals & Resource Recovery Committee,Safety,SIOA,Stormwater Committee,Utility Management,Workforce Development Committee,Young Professionals
ATTACH;FMTTYPE=image/png:https://indianawea.org/wp-content/uploads/2025/06/IWEA-25EVENT-LOGO.png
ORGANIZER;CN="IWEA":MAILTO:staff@indianawea.com
END:VEVENT
BEGIN:VEVENT
DTSTART;VALUE=DATE:20240813
DTEND;VALUE=DATE:20240816
DTSTAMP:20260425T201758
CREATED:20240709T202334Z
LAST-MODIFIED:20240709T202625Z
UID:9952-1723507200-1723766399@indianawea.org
SUMMARY:2024 Annual Conference
DESCRIPTION:Join the Indiana Water Environment Association for our 2024 Annual Conference on August 13th – 15th. This year\, we are back in downtown Indianapolis at the Indiana Convention Center! This premier event brings together water professionals\, policymakers\, and industry leaders to explore the latest advancements\, share insights\, and network with peers in the water environment sector. Whether you’re attending as a delegate\, speaker\, or exhibitor\, the 2024 IWEA Annual Conference promises to be an unforgettable experience filled with learning\, collaboration\, and innovation. This year\, we’re “Takin’ It Downtown Indy” and you just can’t miss out! \n Learn More & Register Here\n\n\n 
URL:https://indianawea.org/event/2024-annual-conference/
LOCATION:Indiana Convention Center\, 100 S Capitol Avenue\, Indianapolis\, 46225\, United States
CATEGORIES:CIOA,Collection Systems,Committees,Conferences,Courses,Editorial, Public Communication & Outreach,Government Affairs,IIOA,IWEA Wastewater Challenge,Laboratory,Leadership Development Institute,Meetings,NIOA,NWIOA,Operations & Maintenance,Operator Associations,Pretreatment,Residuals & Resource Recovery Committee,Safety,SIOA,Stormwater Committee,Utility Management,Workforce Development Committee,Young Professionals
ATTACH;FMTTYPE=image/png:https://indianawea.org/wp-content/uploads/2024/06/IWEA-24EVENT-LOGOSQ.png
ORGANIZER;CN="IWEA":MAILTO:staff@indianawea.com
END:VEVENT
BEGIN:VEVENT
DTSTART;VALUE=DATE:20220816
DTEND;VALUE=DATE:20220820
DTSTAMP:20260425T201758
CREATED:20220221T140949Z
LAST-MODIFIED:20220615T145911Z
UID:7223-1660608000-1660953599@indianawea.org
SUMMARY:2022 Annual Conference
DESCRIPTION:The 2022 IWEA Annual Conference will be taking place August 16th-August 19th at the Grand Wayne Center in Fort Wayne\, Indiana. This year\, our theme “50 Years of the Clean Water Act” will not only celebrate this amazing milestone\, but also highlight the people and processes that have led to monumental improvements in water quality around the nation. \n\n Register today! \n  \n  \n**To receive a full refund for an IWEA event\, the cancellation request must be received at least one week in advance of the event. No refunds will be given for cancellations received less than a week prior to the start of an event. Cancellations must be sent via email to staff@indianawea.org. 
URL:https://indianawea.org/event/2022annualconference/
LOCATION:Grand Wayne Convention Center\, 120 West Jefferson Boulevard\, Fort Wayne\, IN\, 46802\, United States
CATEGORIES:CIOA,Collection Systems,Committees,Conferences,Courses,Editorial, Public Communication & Outreach,Government Affairs,Laboratory,Leadership Development Institute,Meetings,NIOA,NWIOA,Operations & Maintenance,Operator Associations,Pretreatment,Residuals & Resource Recovery Committee,Safety,SIOA,Stormwater Committee,Utility Management,Workforce Development Committee,Young Professionals
ATTACH;FMTTYPE=image/png:https://indianawea.org/wp-content/uploads/2022/02/Screen-Shot-2022-02-21-at-9.25.46-AM.png
END:VEVENT
END:VCALENDAR