BEGIN:VCALENDAR
VERSION:2.0
PRODID:-//Indiana WEA | Wastewater Education - ECPv6.15.20//NONSGML v1.0//EN
CALSCALE:GREGORIAN
METHOD:PUBLISH
X-ORIGINAL-URL:https://indianawea.org
X-WR-CALDESC:Events for Indiana WEA | Wastewater Education
REFRESH-INTERVAL;VALUE=DURATION:PT1H
X-Robots-Tag:noindex
X-PUBLISHED-TTL:PT1H
BEGIN:VTIMEZONE
TZID:America/Indiana/Indianapolis
BEGIN:DAYLIGHT
TZOFFSETFROM:-0500
TZOFFSETTO:-0400
TZNAME:EDT
DTSTART:20210314T070000
END:DAYLIGHT
BEGIN:STANDARD
TZOFFSETFROM:-0400
TZOFFSETTO:-0500
TZNAME:EST
DTSTART:20211107T060000
END:STANDARD
BEGIN:DAYLIGHT
TZOFFSETFROM:-0500
TZOFFSETTO:-0400
TZNAME:EDT
DTSTART:20220313T070000
END:DAYLIGHT
BEGIN:STANDARD
TZOFFSETFROM:-0400
TZOFFSETTO:-0500
TZNAME:EST
DTSTART:20221106T060000
END:STANDARD
BEGIN:DAYLIGHT
TZOFFSETFROM:-0500
TZOFFSETTO:-0400
TZNAME:EDT
DTSTART:20230312T070000
END:DAYLIGHT
BEGIN:STANDARD
TZOFFSETFROM:-0400
TZOFFSETTO:-0500
TZNAME:EST
DTSTART:20231105T060000
END:STANDARD
BEGIN:DAYLIGHT
TZOFFSETFROM:-0500
TZOFFSETTO:-0400
TZNAME:EDT
DTSTART:20240310T070000
END:DAYLIGHT
BEGIN:STANDARD
TZOFFSETFROM:-0400
TZOFFSETTO:-0500
TZNAME:EST
DTSTART:20241103T060000
END:STANDARD
BEGIN:DAYLIGHT
TZOFFSETFROM:-0500
TZOFFSETTO:-0400
TZNAME:EDT
DTSTART:20250309T070000
END:DAYLIGHT
BEGIN:STANDARD
TZOFFSETFROM:-0400
TZOFFSETTO:-0500
TZNAME:EST
DTSTART:20251102T060000
END:STANDARD
BEGIN:DAYLIGHT
TZOFFSETFROM:-0500
TZOFFSETTO:-0400
TZNAME:EDT
DTSTART:20260308T070000
END:DAYLIGHT
BEGIN:STANDARD
TZOFFSETFROM:-0400
TZOFFSETTO:-0500
TZNAME:EST
DTSTART:20261101T060000
END:STANDARD
END:VTIMEZONE
BEGIN:VEVENT
DTSTART;VALUE=DATE:20250820
DTEND;VALUE=DATE:20250823
DTSTAMP:20260421T145248
CREATED:20250620T194221Z
LAST-MODIFIED:20250805T134653Z
UID:10800-1755648000-1755907199@indianawea.org
SUMMARY:2025 Annual Conference
DESCRIPTION:Water is the lifeblood of our cities\, our industries\, and our daily lives. Without it\, nothing functions—no homes\, no businesses\, no infrastructure. For those of us in wastewater management\, water is not just essential—it’s everything. \nJoin the Indiana Water Environment Association for our 2025 Annual Conference on August 20th – 22nd. This year\, we have returned to downtown Indianapolis and the Indiana Convention Center! \nThis premier event brings together water professionals\, policymakers\, and industry leaders to explore the latest advancements\, share insights\, and network with peers in the water environment sector. Whether you’re attending as a delegate\, speaker\, or exhibitor\, the 2025 IWEA Annual Conference promises to be an unforgettable experience filled with learning\, collaboration\, and innovation. \n Learn More Here\n\n\n 
URL:https://indianawea.org/event/2025-annual-conference/
LOCATION:Indiana Convention Center\, 100 S Capitol Avenue\, Indianapolis\, 46225\, United States
CATEGORIES:CIOA,Collection Systems,Committees,Conferences,Courses,Editorial, Public Communication & Outreach,Government Affairs,IIOA,IWEA Wastewater Challenge,Laboratory,Leadership Development Institute,Meetings,NIOA,NWIOA,Operations & Maintenance,Operator Associations,Pretreatment,Residuals & Resource Recovery Committee,Safety,SIOA,Stormwater Committee,Utility Management,Workforce Development Committee,Young Professionals
ATTACH;FMTTYPE=image/png:https://indianawea.org/wp-content/uploads/2025/06/IWEA-25EVENT-LOGO.png
ORGANIZER;CN="IWEA":MAILTO:staff@indianawea.com
END:VEVENT
BEGIN:VEVENT
DTSTART;TZID=America/Indiana/Indianapolis:20250519T120000
DTEND;TZID=America/Indiana/Indianapolis:20250520T130000
DTSTAMP:20260421T145248
CREATED:20250310T203014Z
LAST-MODIFIED:20250516T144903Z
UID:10493-1747656000-1747746000@indianawea.org
SUMMARY:Wastewater Challenge
DESCRIPTION:The Wastewater Challenge is a day of hands-on events designed to test and stretch your how-to knowledge of wastewater. It takes a team to rise to the challenges created by the Laboratory\, Operations & Maintenance\, Residuals & Resource Recovery\, Collection Systems\, Pretreatment\, and Safety committees. Competitive Teams rely on their wits\, experience\, and diverse members for the high score that will take them to WEFTEC to represent Indiana. \nThis year\, IWEA is excited to announce a TWO-DAY event for 2025! The competition will take place on BOTH May 19th and 20th. Competitors must be present both days to participate. So grab your team and get ready for two full days of excitement! \nThe top competitive team in the IWEA Wastewater Challenge will receive up to $10\,000 in funds to help send them to the WEFTEC Ops Challenge in Chicago this October! The second place team will receive a $5\,000 credit to be used within IWEA to either attend WEFTEC or another IWEA event. \nRegistration is officially CLOSED.  \n\n\n\nWatch this video to see what it’s all about!\n  \n\n\nSCHEDULE (times subject to change)\nMonday\, May 19th | Day 1 \n\nRegistration | 12:00 PM\nFirst Event | 1:00 PM\nLast Event Concludes | 5:20 PM\nSocial Evening Event\n\nTuesday\, May 20th | Day 2 \n\nRegistration | 7:15 AM\nFirst Event | 8:00 AM\nLast Event Concludes | 12:10 PM\nAwards | 12:30 PM\n\n\nHOTEL BLOCKS\nHampton Inn (Marion) (Note: Link should take you to a discounted rate.) \nFor your convenience\, the Hampton Inn (Marion) is just 5 minutes from the WW plant\, while the Holiday Inn Express (Gas City) is about 15 minutes away. \nHoliday Inn Express (Gas City)  (Note: the Holiday Inn rate is still pending approval from their owner\, IHG.) \nRates may be lowered at check-in\, pending approval from IHG. \n  \nOther options and locations can be found below. \n\nBest Western Plus\, Gas City\nSuper 8 by Wyndham\, Gas City\nRed Roof Inn\, Marion\nComfort Suites\, Marion\nHoliday Inn Express & Suites\, Marion
URL:https://indianawea.org/event/wastewater-challenge-2025/
LOCATION:Marion Utilities\, 1540 N Washington St\, Marion\, IN\, 46952
CATEGORIES:CIOA,Collection Systems,Committees,IIOA,IWEA Wastewater Challenge,Laboratory,NIOA,NWIOA,Operations & Maintenance,Operator Associations,Pretreatment,Residuals & Resource Recovery Committee,Safety,SIOA
ATTACH;FMTTYPE=image/png:https://indianawea.org/wp-content/uploads/2025/03/EventImage_WWC_2025.png
ORGANIZER;CN="IWEA":MAILTO:staff@indianawea.com
END:VEVENT
BEGIN:VEVENT
DTSTART;VALUE=DATE:20240813
DTEND;VALUE=DATE:20240816
DTSTAMP:20260421T145248
CREATED:20240709T202334Z
LAST-MODIFIED:20240709T202625Z
UID:9952-1723507200-1723766399@indianawea.org
SUMMARY:2024 Annual Conference
DESCRIPTION:Join the Indiana Water Environment Association for our 2024 Annual Conference on August 13th – 15th. This year\, we are back in downtown Indianapolis at the Indiana Convention Center! This premier event brings together water professionals\, policymakers\, and industry leaders to explore the latest advancements\, share insights\, and network with peers in the water environment sector. Whether you’re attending as a delegate\, speaker\, or exhibitor\, the 2024 IWEA Annual Conference promises to be an unforgettable experience filled with learning\, collaboration\, and innovation. This year\, we’re “Takin’ It Downtown Indy” and you just can’t miss out! \n Learn More & Register Here\n\n\n 
URL:https://indianawea.org/event/2024-annual-conference/
LOCATION:Indiana Convention Center\, 100 S Capitol Avenue\, Indianapolis\, 46225\, United States
CATEGORIES:CIOA,Collection Systems,Committees,Conferences,Courses,Editorial, Public Communication & Outreach,Government Affairs,IIOA,IWEA Wastewater Challenge,Laboratory,Leadership Development Institute,Meetings,NIOA,NWIOA,Operations & Maintenance,Operator Associations,Pretreatment,Residuals & Resource Recovery Committee,Safety,SIOA,Stormwater Committee,Utility Management,Workforce Development Committee,Young Professionals
ATTACH;FMTTYPE=image/png:https://indianawea.org/wp-content/uploads/2024/06/IWEA-24EVENT-LOGOSQ.png
ORGANIZER;CN="IWEA":MAILTO:staff@indianawea.com
END:VEVENT
BEGIN:VEVENT
DTSTART;TZID=America/Indiana/Indianapolis:20240514T080000
DTEND;TZID=America/Indiana/Indianapolis:20240514T180000
DTSTAMP:20260421T145248
CREATED:20240229T005942Z
LAST-MODIFIED:20240502T135417Z
UID:9628-1715673600-1715709600@indianawea.org
SUMMARY:Wastewater Challenge
DESCRIPTION:The Wastewater Challenge is a day of hands-on events designed to test and stretch your how-to knowledge of wastewater. It takes a team to rise to the challenges created by the Laboratory\, Operations & Maintenance\, Residuals & Resource Recovery\, Collection Systems\, Pretreatment\, and Safety committees. Competitive Teams rely on their wits\, experience\, and diverse members for the high score that will take them to WEFTEC to represent Indiana. \nRegistration is currently closed. To acquire about last minute registration\, reach out to staff@indianawea.org.\n\nWatch this video to see what it’s all about!\n  \n\n\nMonday\, May 13th | Social Event (Location TBD) \nTuesday\, May 14th | Event Day \n\nRegistration | 7:15 AM\nFirst Event | 8:00 AM\nLunch | 11:30 AM\nAwards | 5:00 PM\n\n\nRoom Block | Holiday Inn Express – Greenfield\, IN\n\nRoom block for check-in on May 13 and check out on May 14th\nRoom Rate: $129 plus tax\nTo book call 317-318-9859 and ask for the IWEA Block  or go to www.hiexpress.com and use code IWE.
URL:https://indianawea.org/event/wastewater-challenge-2024/
LOCATION:Western Hancock Utilities WWTP\, 3511 N 500 W\, Greenfiled\, 46146\, United States
CATEGORIES:CIOA,Collection Systems,Committees,IIOA,IWEA Wastewater Challenge,Laboratory,NIOA,NWIOA,Operations & Maintenance,Operator Associations,Pretreatment,Residuals & Resource Recovery Committee,Safety,SIOA
ATTACH;FMTTYPE=image/png:https://indianawea.org/wp-content/uploads/2024/02/Event-Image_WWC.png
ORGANIZER;CN="IWEA":MAILTO:staff@indianawea.com
END:VEVENT
BEGIN:VEVENT
DTSTART;TZID=America/Indiana/Indianapolis:20230913T100000
DTEND;TZID=America/Indiana/Indianapolis:20230913T170000
DTSTAMP:20260421T145248
CREATED:20230823T145831Z
LAST-MODIFIED:20230823T150225Z
UID:9006-1694599200-1694624400@indianawea.org
SUMMARY:NIOA Golf Outing
DESCRIPTION:Join the Northern Indiana Operators Association (NIOA) at their 16th Annual Golf Outing! This year will be hosted at the Rozella Ford Golf Club in Warsaw\, IN. \nThis is a great opportunity for operators and businesses to get to know each other. The event will consist of 1-hour NIOA business/educational meeting for operators to get their CEUs. After\, those that have signed up to golf will be treated to  lunch followed by a round of golf. It will be a scramble consisting of a four-player team. Prizes will be given out after the outing. \nEvent Schedule \n\n10:00 AM – NIOA Business/Educational Meeting (1.0 CEU)\n11:00 AM – Lunch\n11:45 AM – Golf round begins (shotgun start)\n\nRegistration \nRegistration is $50 per person. To register\, please complete the form attached here and send it to John Magsam. The registration form can be mailed with payment to the information below OR the form can be emailed to John and payment will collected the day of the event. Cash or Check only. Checks should be made out to NIOA. \nJohn Magsam\, NIOA Officer/Treasurer\n2420 N. Coliseum Blvd\, Ste 214\nFort Wayne\, IN 46805\n260-440-8304 / jmagsam@jheng.com
URL:https://indianawea.org/event/nioa-golf-outing/
LOCATION:Rozella Ford Golf Club\, 1700 Rozella Road\, Warsaw\, IN\, 46580\, United States
CATEGORIES:NIOA
ORGANIZER;CN="IWEA":MAILTO:staff@indianawea.com
END:VEVENT
BEGIN:VEVENT
DTSTART;TZID=America/Indiana/Indianapolis:20230516T080000
DTEND;TZID=America/Indiana/Indianapolis:20230516T170000
DTSTAMP:20260421T145248
CREATED:20230301T151421Z
LAST-MODIFIED:20230511T144737Z
UID:8501-1684224000-1684256400@indianawea.org
SUMMARY:Wastewater Challenge
DESCRIPTION:The Wastewater Challenge is a day of hands-on events designed to test and stretch your how-to knowledge of wastewater. It takes a team to rise to the challenges created by the Laboratory\, Operations & Maintenance\, Residuals & Resource Recovery\, Collection Systems\, Pretreatment\, and Safety committees. Competitive Teams rely on their wits\, experience\, and diverse members for the high score that will take them to WEFTEC to represent Indiana. \nRegistration is now closed – for additional information\, please contact Amy at amy@indianawea.org.\nWatch this video to see what it’s all about!\n\nREGISTRATION OPENS MARCH 14TH – MAY 9TH \nMonday\, May 15th | Social Event \nTuesday\, May 16th | Event Day \n\nMonday\, May 15th at 5:00 | Social Event at Spinning Axe (351 South St\, Lafayette\, IN 47901)\nTuesday\, May 16th | Event Day at Lafayette Renew\n\nRegistration | 7:15 AM\nFirst Event | 8:00 AM\nLunch | 11:30 AM\nAwards | 5:00 PM\n\n\n\n  \nRoom Block | Holiday Inn Lafayette\n\nRoom block for check-in on May 15 and check out on May 16th\nRoom Rate: $129 plus tax\nBooking Link
URL:https://indianawea.org/event/wastewater-challenge-2/
LOCATION:Lafayette Renew\, 1700 Wabash Avenue\, Lafayette\, IN\, 47909\, United States
CATEGORIES:CIOA,Collection Systems,Committees,IIOA,IWEA Wastewater Challenge,Laboratory,NIOA,NWIOA,Operations & Maintenance,Operator Associations,Pretreatment,Residuals & Resource Recovery Committee,Safety,SIOA
ATTACH;FMTTYPE=image/png:https://indianawea.org/wp-content/uploads/2023/03/WASTEWATER-CHALLENGE.png
END:VEVENT
BEGIN:VEVENT
DTSTART;TZID=America/Indiana/Indianapolis:20221104T140000
DTEND;TZID=America/Indiana/Indianapolis:20221104T170000
DTSTAMP:20260421T145248
CREATED:20221017T154454Z
LAST-MODIFIED:20221024T132049Z
UID:7973-1667570400-1667581200@indianawea.org
SUMMARY:Clay Shoot
DESCRIPTION:Come join us for IWEA’s first clay shoot on November 4th at the Atterbury Shooting Complex in Edinburgh\, IN hosted by CIOA and SIOA. This event is designed to fundraise for IWEA to send two teams to WEFTEC next year. There are many ways to participate; form a team of 5\, come as an individual or get your company involved by participating as a sponsor! \nCongratulation to our two teams who competed this year: Town of Brownsburg & City of Fort Wayne! \nThe registration fee includes ammo for 25 clay targets\, ear protection\, eye protection\, snacks\, and beverages.  \nIWEA Members: \nTeam of 5 – $250 \nIndividual – $50 \nStation Sponsor Only – $150 \nStation Sponsor & team of 5 – $400 \n  \nNon-members: \nNon-member Team of 5 – $375 \nNon-member Individual – $75 \nNon-member Station Sponsor Only – $225 \nNon-member Station Sponsor & team of 5 – $600 \n\n Register Today >>\n\n**To receive a full refund for an IWEA event\, the cancellation request must be received at least one week in advance of the event. No refunds will be given for cancellations received less than a week prior to the start of an event. Please note the cancellation policy for the IWEA Annual Conference is subject to change due to the nature of the event. Cancellations must be sent via email to Jess Deak-Sims. 
URL:https://indianawea.org/event/clay-shoot/
LOCATION:Atterbury Shooting Complex\, 4250 E. Edinburgh St.\, Edinburgh\, IN\, 46124\, United States
CATEGORIES:CIOA,Committees,SIOA
ATTACH;FMTTYPE=image/png:https://indianawea.org/wp-content/uploads/2022/10/Copy-of-IWEA-Facebook-Template-7.png
END:VEVENT
BEGIN:VEVENT
DTSTART;VALUE=DATE:20220816
DTEND;VALUE=DATE:20220820
DTSTAMP:20260421T145248
CREATED:20220221T140949Z
LAST-MODIFIED:20220615T145911Z
UID:7223-1660608000-1660953599@indianawea.org
SUMMARY:2022 Annual Conference
DESCRIPTION:The 2022 IWEA Annual Conference will be taking place August 16th-August 19th at the Grand Wayne Center in Fort Wayne\, Indiana. This year\, our theme “50 Years of the Clean Water Act” will not only celebrate this amazing milestone\, but also highlight the people and processes that have led to monumental improvements in water quality around the nation. \n\n Register today! \n  \n  \n**To receive a full refund for an IWEA event\, the cancellation request must be received at least one week in advance of the event. No refunds will be given for cancellations received less than a week prior to the start of an event. Cancellations must be sent via email to staff@indianawea.org. 
URL:https://indianawea.org/event/2022annualconference/
LOCATION:Grand Wayne Convention Center\, 120 West Jefferson Boulevard\, Fort Wayne\, IN\, 46802\, United States
CATEGORIES:CIOA,Collection Systems,Committees,Conferences,Courses,Editorial, Public Communication & Outreach,Government Affairs,Laboratory,Leadership Development Institute,Meetings,NIOA,NWIOA,Operations & Maintenance,Operator Associations,Pretreatment,Residuals & Resource Recovery Committee,Safety,SIOA,Stormwater Committee,Utility Management,Workforce Development Committee,Young Professionals
ATTACH;FMTTYPE=image/png:https://indianawea.org/wp-content/uploads/2022/02/Screen-Shot-2022-02-21-at-9.25.46-AM.png
END:VEVENT
BEGIN:VEVENT
DTSTART;TZID=America/Indiana/Indianapolis:20220420T100000
DTEND;TZID=America/Indiana/Indianapolis:20220420T130000
DTSTAMP:20260421T145248
CREATED:20220322T141739Z
LAST-MODIFIED:20220411T152738Z
UID:7319-1650448800-1650459600@indianawea.org
SUMMARY:SIOA Indiana Finance Authority Meeting & Plant Tour
DESCRIPTION:In 2018\, the State convened the Water Infrastructure Task Force (“Task Force”) to study drinking water and wastewater utility needs and best practices in Indiana. One recommendation of the Task Force was for the State to assist utilities with long term planning by establishing Water Infrastructure Study Areas for the purpose of studying supply and demand\, drought preparedness\, infrastructure needs\, and opportunities for utility collaboration within a region. \nAs a result of these recommendations\, the 2019 Indiana General Assembly enacted Senate Enrolled Act 4. (“SEA 4”) requiring the IFA to conduct regional meetings throughout the state to enable drinking water and wastewater utilities to work together to address long term needs. SEA 4 also requires drinking water and wastewater utilities to report their participation in the meetings to the IFA. Communities seeking SRF funding must attend a Regional Planning Meeting. Sarah Hudson from IFA will be leading the meeting\, and attendance at the meeting counts for your yearly requirement! \nThere will also be WWTP tours oﬀered before the meeting. Registration is $10 per person. \nPlant Tours: 10am-12pm \nLunch and Presentation: 12pm-1pm \nLunch will be provided. Register today by emailing sioaofficer@gmail.com. \n  \n View Flyer Here >>\n  \n 
URL:https://indianawea.org/event/cioafinanceauthority2022/
LOCATION:Shelbyville Parks Department\, 945 S Tompkins Street\, Shelbyville\, 46176
CATEGORIES:Operator Associations,SIOA
END:VEVENT
END:VCALENDAR